BEGIN:VCALENDAR
VERSION:2.0
PRODID:-//Willowsford Conservancy &amp; Farm - ECPv6.15.18//NONSGML v1.0//EN
CALSCALE:GREGORIAN
METHOD:PUBLISH
X-WR-CALNAME:Willowsford Conservancy &amp; Farm
X-ORIGINAL-URL:https://willowsfordconservancy.org
X-WR-CALDESC:Events for Willowsford Conservancy &amp; Farm
REFRESH-INTERVAL;VALUE=DURATION:PT1H
X-Robots-Tag:noindex
X-PUBLISHED-TTL:PT1H
BEGIN:VTIMEZONE
TZID:America/New_York
BEGIN:DAYLIGHT
TZOFFSETFROM:-0500
TZOFFSETTO:-0400
TZNAME:EDT
DTSTART:20250309T070000
END:DAYLIGHT
BEGIN:STANDARD
TZOFFSETFROM:-0400
TZOFFSETTO:-0500
TZNAME:EST
DTSTART:20251102T060000
END:STANDARD
BEGIN:DAYLIGHT
TZOFFSETFROM:-0500
TZOFFSETTO:-0400
TZNAME:EDT
DTSTART:20260308T070000
END:DAYLIGHT
BEGIN:STANDARD
TZOFFSETFROM:-0400
TZOFFSETTO:-0500
TZNAME:EST
DTSTART:20261101T060000
END:STANDARD
BEGIN:DAYLIGHT
TZOFFSETFROM:-0500
TZOFFSETTO:-0400
TZNAME:EDT
DTSTART:20270314T070000
END:DAYLIGHT
BEGIN:STANDARD
TZOFFSETFROM:-0400
TZOFFSETTO:-0500
TZNAME:EST
DTSTART:20271107T060000
END:STANDARD
END:VTIMEZONE
BEGIN:VEVENT
DTSTART;TZID=America/New_York:20260217T090000
DTEND;TZID=America/New_York:20260217T120000
DTSTAMP:20260421T083305
CREATED:20260113T161542Z
LAST-MODIFIED:20260130T135010Z
UID:18799-1771318800-1771329600@willowsfordconservancy.org
SUMMARY:Four Seasons Arts & Crafts: Winter in Nature
DESCRIPTION:A hands-on\, indoor-friendly program featuring crafts inspired by winter wildlife and nature. \nLooking for something fun and creative to do on the LCPS student holiday? Join us for a cozy winter morning at the Willowsford Boat House filled with hands-on art projects inspired by the natural world. \nParticipants will rotate through a variety of indoor craft stations\, including: \n\nRecycled Egg Carton Flower Wreaths – Transform everyday materials into seasonal nature-inspired decor.\nBeeswax Candle Making – Learn about natural materials while creating a warm\, functional keepsake to take home.\nFelt Birds and Woodland Animals – Craft your own winter wildlife using felt and simple hand-sewing techniques.\n\nAll materials are provided\, and no prior experience is necessary. This program is designed to encourage creativity\, seasonal awareness\, and a relaxed morning away from screens and the classroom. If weather conditions permit\, we may spend a short time outdoors\, so participants should dress appropriately for winter weather. \nWhen: Tuesday\, February 17\, from 9 AM to 12 PM \nWhere: Willowsford Boat House\, 41025 Willowsford Lane\, Aldie\, VA \nAges: This activity is suitable for children aged 6 through 13. \nChildren may be dropped off and must be picked up promptly at 12 PM. Parents dropping off must check in with staff upon arrival. Please pack water and snacks for your child\, as they will have a designated snack time. \nThis is a ticketed event. Registration is required for all participants. If the event is sold out\, please email info@willowsfordconservancy.org to be added to the waitlist.
URL:https://willowsfordconservancy.org/event/four-seasons-arts-crafts-winter-in-nature/
LOCATION:Willowsford Boat House\, 41025 Willowsford Lane\, Aldie\, VA\, 20105\, United States
CATEGORIES:Public
ATTACH;FMTTYPE=image/png:https://willowsfordconservancy.org/wp-content/uploads/2026/01/Seasonal-ARTS-CRAFTS-1.png
ORGANIZER;CN="Willowsford Conservancy":MAILTO:info@willowsfordconservancy.org
GEO:38.9258925;-77.5847098
X-APPLE-STRUCTURED-LOCATION;VALUE=URI;X-ADDRESS=Willowsford Boat House 41025 Willowsford Lane Aldie VA 20105 United States;X-APPLE-RADIUS=500;X-TITLE=41025 Willowsford Lane:geo:-77.5847098,38.9258925
END:VEVENT
END:VCALENDAR