BEGIN:VCALENDAR
VERSION:2.0
PRODID:-//Willowsford Conservancy &amp; Farm - ECPv6.15.18//NONSGML v1.0//EN
CALSCALE:GREGORIAN
METHOD:PUBLISH
X-ORIGINAL-URL:https://willowsfordconservancy.org
X-WR-CALDESC:Events for Willowsford Conservancy &amp; Farm
REFRESH-INTERVAL;VALUE=DURATION:PT1H
X-Robots-Tag:noindex
X-PUBLISHED-TTL:PT1H
BEGIN:VTIMEZONE
TZID:America/New_York
BEGIN:DAYLIGHT
TZOFFSETFROM:-0500
TZOFFSETTO:-0400
TZNAME:EDT
DTSTART:20210314T070000
END:DAYLIGHT
BEGIN:STANDARD
TZOFFSETFROM:-0400
TZOFFSETTO:-0500
TZNAME:EST
DTSTART:20211107T060000
END:STANDARD
BEGIN:DAYLIGHT
TZOFFSETFROM:-0500
TZOFFSETTO:-0400
TZNAME:EDT
DTSTART:20220313T070000
END:DAYLIGHT
BEGIN:STANDARD
TZOFFSETFROM:-0400
TZOFFSETTO:-0500
TZNAME:EST
DTSTART:20221106T060000
END:STANDARD
BEGIN:DAYLIGHT
TZOFFSETFROM:-0500
TZOFFSETTO:-0400
TZNAME:EDT
DTSTART:20230312T070000
END:DAYLIGHT
BEGIN:STANDARD
TZOFFSETFROM:-0400
TZOFFSETTO:-0500
TZNAME:EST
DTSTART:20231105T060000
END:STANDARD
END:VTIMEZONE
BEGIN:VEVENT
DTSTART;TZID=America/New_York:20220803T170000
DTEND;TZID=America/New_York:20220803T190000
DTSTAMP:20260421T071234
CREATED:20220701T154213Z
LAST-MODIFIED:20220802T200731Z
UID:8833-1659546000-1659553200@willowsfordconservancy.org
SUMMARY:Build-a-Birdbox Workshop
DESCRIPTION:Learn about the wild birds that call Willowsford Conservancy their home. All children under the age 16 must be accompanied by an adult. Land Stewardship Director Taryn will then show you how to build a birdbox for your own backyard that you get to take home! \nAges 5+
URL:https://willowsfordconservancy.org/event/build-a-birdbox-workshop-youth/
LOCATION:Cedar Pond Pavilion
CATEGORIES:Homeowner
ATTACH;FMTTYPE=image/jpeg:https://willowsfordconservancy.org/wp-content/uploads/2022/07/Build-a-birdbox-workshop-rotated.jpg
END:VEVENT
BEGIN:VEVENT
DTSTART;TZID=America/New_York:20220804T160000
DTEND;TZID=America/New_York:20220804T190000
DTSTAMP:20260421T071234
CREATED:20220429T170408Z
LAST-MODIFIED:20220802T194400Z
UID:8278-1659628800-1659639600@willowsfordconservancy.org
SUMMARY:Farm Stand Open + Food Truck : Taco Town!
DESCRIPTION:Willowsford Farm Stand will be open Thursdays from 4- 7 PM and Saturdays from 9 AM – 1 PM. For updates on what will be at the stand each week check out Facebook\, Instagram and our latest newsletter! Not on our newsletter distribution list?! Join us in the footer of this webpage\, here!
URL:https://willowsfordconservancy.org/event/farm-stand-saturdays-2022-08-04/
LOCATION:Willowsford Farm Stand in The Grange\, 23595 Founders Drive\, Ashburn\, VA\, 20148\, United States
CATEGORIES:Public
ATTACH;FMTTYPE=image/jpeg:https://willowsfordconservancy.org/wp-content/uploads/2022/04/WFarmStand_Oct2015_085.jpg
GEO:38.9666564;-77.5608896
X-APPLE-STRUCTURED-LOCATION;VALUE=URI;X-ADDRESS=Willowsford Farm Stand in The Grange 23595 Founders Drive Ashburn VA 20148 United States;X-APPLE-RADIUS=500;X-TITLE=23595 Founders Drive:geo:-77.5608896,38.9666564
END:VEVENT
BEGIN:VEVENT
DTSTART;TZID=America/New_York:20220806T100000
DTEND;TZID=America/New_York:20220806T110000
DTSTAMP:20260421T071234
CREATED:20220701T154522Z
LAST-MODIFIED:20220803T180151Z
UID:8836-1659780000-1659783600@willowsfordconservancy.org
SUMMARY:Worm Compost for Kids!
DESCRIPTION:Nick with Apex Organix talks with kids and parents alike about the importance of compost\, how it helps grow healthy food and more. Attendees will get to feel the soil\, feed the worms\, observe the difference between composted soil and non (think new construction site!) and take home Willowsford potted transplants to compare growth and progress. All ages are welcome\, parents required to accompany children under 13. This session will be held at the Willowsford Farm Stand between 10 – 11 AM\, Saturday\, August 6. To help with planning we ask that you register for this free event.\n \nAll ages.
URL:https://willowsfordconservancy.org/event/worm-compost-for-kids/
LOCATION:Willowsford Farm Stand in The Grange\, 23595 Founders Drive\, Ashburn\, VA\, 20148\, United States
CATEGORIES:Public
ATTACH;FMTTYPE=image/jpeg:https://willowsfordconservancy.org/wp-content/uploads/2022/07/Worm-Compst-1.jpeg
ORGANIZER;CN="Willowsford Conservancy":MAILTO:info@willowsfordconservancy.org
GEO:38.9666564;-77.5608896
X-APPLE-STRUCTURED-LOCATION;VALUE=URI;X-ADDRESS=Willowsford Farm Stand in The Grange 23595 Founders Drive Ashburn VA 20148 United States;X-APPLE-RADIUS=500;X-TITLE=23595 Founders Drive:geo:-77.5608896,38.9666564
END:VEVENT
BEGIN:VEVENT
DTSTART;TZID=America/New_York:20220811T160000
DTEND;TZID=America/New_York:20220811T180000
DTSTAMP:20260421T071234
CREATED:20220613T191527Z
LAST-MODIFIED:20220802T200513Z
UID:8656-1660233600-1660240800@willowsfordconservancy.org
SUMMARY:Boat House Farm Stand + Food Truck : Dogs on the Curb
DESCRIPTION:The Farm Stand will be setting up shop at the Willowsford Boat House! \nWe’ll have beverages\, pantry items\, ice cream\, and\, of course\, Farm fresh produce available for purchase. Chef Gabe will also be doing a cooking demo for kids to show them how to cook simple\, farm and seasonal inspired recipes.  \nJoining us for our August Farm Stand @ the Boat House is Dogs on the Curb\, a food truck that prides itself in providing stellar customer service\, a fun and friendly atmosphere\, and an experience that ends with a full belly\, big smiles\, and maybe a little chili on your shirt. \n​Considered to be one of DC’s finest gourmet eats\, DOTC’s goal is to create products that inspire diners to roll up their sleeves and embrace exciting\, flavorful\, and unapologetic creations. \n 
URL:https://willowsfordconservancy.org/event/farm-stand-willowsford-boat-house-2022-08-11/
LOCATION:Willowsford Boat House\, 41025 Willowsford Lane\, Aldie\, VA\, 20105\, United States
ATTACH;FMTTYPE=image/jpeg:https://willowsfordconservancy.org/wp-content/uploads/2022/06/b188a5a0-c524-2a98-515d-5d5799dfa290.jpg
GEO:38.9258925;-77.5847098
X-APPLE-STRUCTURED-LOCATION;VALUE=URI;X-ADDRESS=Willowsford Boat House 41025 Willowsford Lane Aldie VA 20105 United States;X-APPLE-RADIUS=500;X-TITLE=41025 Willowsford Lane:geo:-77.5847098,38.9258925
END:VEVENT
BEGIN:VEVENT
DTSTART;TZID=America/New_York:20220811T160000
DTEND;TZID=America/New_York:20220811T190000
DTSTAMP:20260421T071234
CREATED:20220429T170408Z
LAST-MODIFIED:20220805T120654Z
UID:8279-1660233600-1660244400@willowsfordconservancy.org
SUMMARY:Farm Stand Open + Food Truck : Taco Town
DESCRIPTION:Willowsford Farm Stand will be open Thursdays from 4- 7 PM and Saturdays from 9 AM – 1 PM. For updates on what will be at the stand each week check out Facebook\, Instagram and our latest newsletter! Not on our newsletter distribution list?! Join us in the footer of this webpage\, here!
URL:https://willowsfordconservancy.org/event/farm-stand-saturdays-2022-08-11/
LOCATION:Willowsford Farm Stand in The Grange\, 23595 Founders Drive\, Ashburn\, VA\, 20148\, United States
CATEGORIES:Public
ATTACH;FMTTYPE=image/jpeg:https://willowsfordconservancy.org/wp-content/uploads/2022/04/WFarmStand_Oct2015_085.jpg
GEO:38.9666564;-77.5608896
X-APPLE-STRUCTURED-LOCATION;VALUE=URI;X-ADDRESS=Willowsford Farm Stand in The Grange 23595 Founders Drive Ashburn VA 20148 United States;X-APPLE-RADIUS=500;X-TITLE=23595 Founders Drive:geo:-77.5608896,38.9666564
END:VEVENT
BEGIN:VEVENT
DTSTART;TZID=America/New_York:20220813T100000
DTEND;TZID=America/New_York:20220813T110000
DTSTAMP:20260421T071234
CREATED:20220701T155312Z
LAST-MODIFIED:20220810T215809Z
UID:8841-1660384800-1660388400@willowsfordconservancy.org
SUMMARY:Wagon Ride Farm Tours
DESCRIPTION:Are you interested in learning more about the Farm? Take a wagon ride Farm tour to see how your food is grown and what environmental initiatives we’ve implemented. This family friendly event is open to all. To help the Farm team plan please register for this free event and indicate which hour you’ll be joining us.  \nAll ages.
URL:https://willowsfordconservancy.org/event/wagon-ride-farm-tours-4/
LOCATION:Willowsford Farm Stand in The Grange\, 23595 Founders Drive\, Ashburn\, VA\, 20148\, United States
CATEGORIES:Public
ATTACH;FMTTYPE=image/jpeg:https://willowsfordconservancy.org/wp-content/uploads/2022/07/Wagon-Ride-Farm-Tours.jpeg
ORGANIZER;CN="Willowsford Conservancy":MAILTO:info@willowsfordconservancy.org
GEO:38.9666564;-77.5608896
X-APPLE-STRUCTURED-LOCATION;VALUE=URI;X-ADDRESS=Willowsford Farm Stand in The Grange 23595 Founders Drive Ashburn VA 20148 United States;X-APPLE-RADIUS=500;X-TITLE=23595 Founders Drive:geo:-77.5608896,38.9666564
END:VEVENT
BEGIN:VEVENT
DTSTART;TZID=America/New_York:20220813T110000
DTEND;TZID=America/New_York:20220813T120000
DTSTAMP:20260421T071234
CREATED:20220701T155420Z
LAST-MODIFIED:20220810T215741Z
UID:8843-1660388400-1660392000@willowsfordconservancy.org
SUMMARY:Wagon Ride Farm Tours
DESCRIPTION:Are you interested in learning more about the Farm? Take a wagon ride Farm tour to see how your food is grown and what environmental initiatives we’ve implemented. This family friendly event is open to all. To help the Farm team plan please register for this free event and indicate which hour you’ll be joining us.  \nAll ages.
URL:https://willowsfordconservancy.org/event/wagon-ride-farm-tours-5/
LOCATION:Willowsford Farm Stand in The Grange\, 23595 Founders Drive\, Ashburn\, VA\, 20148\, United States
CATEGORIES:Public
ATTACH;FMTTYPE=image/jpeg:https://willowsfordconservancy.org/wp-content/uploads/2022/07/Wagon-Ride-Farm-Tours.jpeg
ORGANIZER;CN="Willowsford Conservancy":MAILTO:info@willowsfordconservancy.org
GEO:38.9666564;-77.5608896
X-APPLE-STRUCTURED-LOCATION;VALUE=URI;X-ADDRESS=Willowsford Farm Stand in The Grange 23595 Founders Drive Ashburn VA 20148 United States;X-APPLE-RADIUS=500;X-TITLE=23595 Founders Drive:geo:-77.5608896,38.9666564
END:VEVENT
BEGIN:VEVENT
DTSTART;TZID=America/New_York:20220818T160000
DTEND;TZID=America/New_York:20220818T190000
DTSTAMP:20260421T071234
CREATED:20220429T170408Z
LAST-MODIFIED:20220802T194600Z
UID:8280-1660838400-1660849200@willowsfordconservancy.org
SUMMARY:Farm Stand Open + Food Truck : Taco Town!
DESCRIPTION:Willowsford Farm Stand will be open Thursdays from 4- 7 PM and Saturdays from 9 AM – 1 PM. For updates on what will be at the stand each week check out Facebook\, Instagram and our latest newsletter! Not on our newsletter distribution list?! Join us in the footer of this webpage\, here!
URL:https://willowsfordconservancy.org/event/farm-stand-saturdays-2022-08-18/
LOCATION:Willowsford Farm Stand in The Grange\, 23595 Founders Drive\, Ashburn\, VA\, 20148\, United States
CATEGORIES:Public
ATTACH;FMTTYPE=image/jpeg:https://willowsfordconservancy.org/wp-content/uploads/2022/04/WFarmStand_Oct2015_085.jpg
GEO:38.9666564;-77.5608896
X-APPLE-STRUCTURED-LOCATION;VALUE=URI;X-ADDRESS=Willowsford Farm Stand in The Grange 23595 Founders Drive Ashburn VA 20148 United States;X-APPLE-RADIUS=500;X-TITLE=23595 Founders Drive:geo:-77.5608896,38.9666564
END:VEVENT
BEGIN:VEVENT
DTSTART;TZID=America/New_York:20220820T100000
DTEND;TZID=America/New_York:20220820T110000
DTSTAMP:20260421T071234
CREATED:20220701T165738Z
LAST-MODIFIED:20220803T181227Z
UID:8859-1660989600-1660993200@willowsfordconservancy.org
SUMMARY:Community Egg Collection
DESCRIPTION:Do you want to know EGGxactly where your Willowsford Eggs are coming from? Join the Farm team for a community egg collection. In addition to harvesting eggs the team will share details about animal husbandry\, rotational grazing in relation to soil health and what it takes to get eggs from chick to plate! Each participant will be able to take home a dozen Farm fresh eggs.  \nTo gauge staffing and supply needs\, we ask that you register for this free family friendly event.  \nRegistration is limited to 30 to ensure a quality experience. 
URL:https://willowsfordconservancy.org/event/community-egg-collection-2/
LOCATION:Willowsford Farm Stand in The Grange\, 23595 Founders Drive\, Ashburn\, VA\, 20148\, United States
CATEGORIES:Public
ATTACH;FMTTYPE=image/jpeg:https://willowsfordconservancy.org/wp-content/uploads/2022/06/Chick4-scaled-e1656615860205.jpg
ORGANIZER;CN="Willowsford Conservancy":MAILTO:info@willowsfordconservancy.org
GEO:38.9666564;-77.5608896
X-APPLE-STRUCTURED-LOCATION;VALUE=URI;X-ADDRESS=Willowsford Farm Stand in The Grange 23595 Founders Drive Ashburn VA 20148 United States;X-APPLE-RADIUS=500;X-TITLE=23595 Founders Drive:geo:-77.5608896,38.9666564
END:VEVENT
BEGIN:VEVENT
DTSTART;TZID=America/New_York:20220825T160000
DTEND;TZID=America/New_York:20220825T190000
DTSTAMP:20260421T071234
CREATED:20220429T170408Z
LAST-MODIFIED:20220802T194736Z
UID:8281-1661443200-1661454000@willowsfordconservancy.org
SUMMARY:Farm Stand Open + Food Truck : Taco Town!
DESCRIPTION:Willowsford Farm Stand will be open Thursdays from 4- 7 PM and Saturdays from 9 AM – 1 PM. For updates on what will be at the stand each week check out Facebook\, Instagram and our latest newsletter! Not on our newsletter distribution list?! Join us in the footer of this webpage\, here!
URL:https://willowsfordconservancy.org/event/farm-stand-saturdays-2022-08-25/
LOCATION:Willowsford Farm Stand in The Grange\, 23595 Founders Drive\, Ashburn\, VA\, 20148\, United States
CATEGORIES:Public
ATTACH;FMTTYPE=image/jpeg:https://willowsfordconservancy.org/wp-content/uploads/2022/04/WFarmStand_Oct2015_085.jpg
GEO:38.9666564;-77.5608896
X-APPLE-STRUCTURED-LOCATION;VALUE=URI;X-ADDRESS=Willowsford Farm Stand in The Grange 23595 Founders Drive Ashburn VA 20148 United States;X-APPLE-RADIUS=500;X-TITLE=23595 Founders Drive:geo:-77.5608896,38.9666564
END:VEVENT
BEGIN:VEVENT
DTSTART;TZID=America/New_York:20220825T170000
DTEND;TZID=America/New_York:20220825T183000
DTSTAMP:20260421T071234
CREATED:20220701T160448Z
LAST-MODIFIED:20220803T181156Z
UID:8850-1661446800-1661452200@willowsfordconservancy.org
SUMMARY:Woodland Walk
DESCRIPTION:Take a walk with our Land Stewardship team around Pinewoods loop and learn about the diverse trees that exist on Conservancy land and what purpose they serve for the local biome. \nAges 10+
URL:https://willowsfordconservancy.org/event/woodland-walk/
LOCATION:Pinewoods Loop
CATEGORIES:Homeowner
ATTACH;FMTTYPE=image/jpeg:https://willowsfordconservancy.org/wp-content/uploads/2022/07/Woodland-Walk.jpg
ORGANIZER;CN="Willowsford Conservancy":MAILTO:info@willowsfordconservancy.org
END:VEVENT
BEGIN:VEVENT
DTSTART;TZID=America/New_York:20220826T170000
DTEND;TZID=America/New_York:20220826T190000
DTSTAMP:20260421T071234
CREATED:20220701T155837Z
LAST-MODIFIED:20220818T210342Z
UID:8847-1661533200-1661540400@willowsfordconservancy.org
SUMMARY:Advanced Fishing Class & Fish Cookery with Gabe
DESCRIPTION:UPDATE: This class is will take place on 8/26/22 vs. the originally schedule date of 8/19/22. \nTrout Unlimited’s local chapter teams up with our Land Stewardship team to take a deep dive into fish ecology\, bait selection\, different rods\, and more at Willow Lake. Chef Gabe will also show teach you advanced fish fabrication and cooking techniques that you can use on your own catch (or on a fish from the store). \nAges 7+
URL:https://willowsfordconservancy.org/event/advanced-fishing-class-fish-cookery-with-gabe/
LOCATION:Willow Lake\, 41025 Willowsford Lane\, Aldie\, Virginia\, 20105
CATEGORIES:Homeowner
ATTACH;FMTTYPE=image/jpeg:https://willowsfordconservancy.org/wp-content/uploads/2022/07/8.19-TU-Advanced-Fishing-scaled.jpg
GEO:38.9258925;-77.5847098
X-APPLE-STRUCTURED-LOCATION;VALUE=URI;X-ADDRESS=Willow Lake 41025 Willowsford Lane Aldie Virginia 20105;X-APPLE-RADIUS=500;X-TITLE=41025 Willowsford Lane:geo:-77.5847098,38.9258925
END:VEVENT
BEGIN:VEVENT
DTSTART;TZID=America/New_York:20220827T090000
DTEND;TZID=America/New_York:20220827T130000
DTSTAMP:20260421T071234
CREATED:20220429T170408Z
LAST-MODIFIED:20220802T200318Z
UID:8685-1661590800-1661605200@willowsfordconservancy.org
SUMMARY:Farm Stand Open + Food Truck : Seafood at the Shack
DESCRIPTION:Willowsford Farm Stand will be open Thursdays from 4- 7 PM and Saturdays from 9 AM – 1 PM. For updates on what will be at the stand each week check out Facebook\, Instagram and our latest newsletter! Not on our newsletter distribution list?! Join us in the footer of this webpage\, here!
URL:https://willowsfordconservancy.org/event/farm-stand-saturdays-2022-08-27/
LOCATION:Willowsford Farm Stand in The Grange\, 23595 Founders Drive\, Ashburn\, VA\, 20148\, United States
CATEGORIES:Public
ATTACH;FMTTYPE=image/jpeg:https://willowsfordconservancy.org/wp-content/uploads/2022/04/WFarmStand_Oct2015_085.jpg
GEO:38.9666564;-77.5608896
X-APPLE-STRUCTURED-LOCATION;VALUE=URI;X-ADDRESS=Willowsford Farm Stand in The Grange 23595 Founders Drive Ashburn VA 20148 United States;X-APPLE-RADIUS=500;X-TITLE=23595 Founders Drive:geo:-77.5608896,38.9666564
END:VEVENT
END:VCALENDAR