BEGIN:VCALENDAR
VERSION:2.0
PRODID:-//Willowsford Conservancy &amp; Farm - ECPv6.15.18//NONSGML v1.0//EN
CALSCALE:GREGORIAN
METHOD:PUBLISH
X-WR-CALNAME:Willowsford Conservancy &amp; Farm
X-ORIGINAL-URL:https://willowsfordconservancy.org
X-WR-CALDESC:Events for Willowsford Conservancy &amp; Farm
REFRESH-INTERVAL;VALUE=DURATION:PT1H
X-Robots-Tag:noindex
X-PUBLISHED-TTL:PT1H
BEGIN:VTIMEZONE
TZID:America/New_York
BEGIN:DAYLIGHT
TZOFFSETFROM:-0500
TZOFFSETTO:-0400
TZNAME:EDT
DTSTART:20250309T070000
END:DAYLIGHT
BEGIN:STANDARD
TZOFFSETFROM:-0400
TZOFFSETTO:-0500
TZNAME:EST
DTSTART:20251102T060000
END:STANDARD
BEGIN:DAYLIGHT
TZOFFSETFROM:-0500
TZOFFSETTO:-0400
TZNAME:EDT
DTSTART:20260308T070000
END:DAYLIGHT
BEGIN:STANDARD
TZOFFSETFROM:-0400
TZOFFSETTO:-0500
TZNAME:EST
DTSTART:20261101T060000
END:STANDARD
BEGIN:DAYLIGHT
TZOFFSETFROM:-0500
TZOFFSETTO:-0400
TZNAME:EDT
DTSTART:20270314T070000
END:DAYLIGHT
BEGIN:STANDARD
TZOFFSETFROM:-0400
TZOFFSETTO:-0500
TZNAME:EST
DTSTART:20271107T060000
END:STANDARD
END:VTIMEZONE
BEGIN:VEVENT
DTSTART;TZID=America/New_York:20260718T093000
DTEND;TZID=America/New_York:20260718T113000
DTSTAMP:20260421T083754
CREATED:20260218T141120Z
LAST-MODIFIED:20260218T141120Z
UID:18997-1784367000-1784374200@willowsfordconservancy.org
SUMMARY:Guided Butterfly Walk with Loudoun Wildlife Conservancy
DESCRIPTION:Join us for a guided Butterfly Walk with our friends at Loudoun Wildlife Conservancy! Many different habitats at Willowsford Conservancy makes this an ideal place to find a wide variety of butterflies. Loudoun Wildlife Conservancy’s Anne Ellis will lead a walk along the Farm Loop Trail in search of Monarchs\, Tiger Swallowtails\, Eastern Tailed Blues\, and many other native beauties. \nWhen: Saturday\, July 18th\, 9:30AM-11:30AM \nWhere: We’ll meet at the Farm Stand in The Grange located at 23595 Founders Drive\, Ashburn\, VA. \nThis program is family friendly but best suited for ages 5+. Be sure to dress for the weather and bring water. After the walk\, be sure to stop by the Farm Stand to shop for seasonal produce and local products! \n  \nRSVP required\, a link will be provided for registration once the event is closer. 
URL:https://willowsfordconservancy.org/event/guided-butterfly-walk-with-loudoun-wildlife-conservancy/
LOCATION:Willowsford Farm Stand in The Grange\, 23595 Founders Drive\, Ashburn\, VA\, 20148\, United States
ATTACH;FMTTYPE=image/jpeg:https://willowsfordconservancy.org/wp-content/uploads/2025/06/IMG_5982.jpg
ORGANIZER;CN="Willowsford Conservancy":MAILTO:info@willowsfordconservancy.org
GEO:38.9666564;-77.5608896
X-APPLE-STRUCTURED-LOCATION;VALUE=URI;X-ADDRESS=Willowsford Farm Stand in The Grange 23595 Founders Drive Ashburn VA 20148 United States;X-APPLE-RADIUS=500;X-TITLE=23595 Founders Drive:geo:-77.5608896,38.9666564
END:VEVENT
BEGIN:VEVENT
DTSTART;VALUE=DATE:20260727
DTEND;VALUE=DATE:20260801
DTSTAMP:20260421T083754
CREATED:20250313T212104Z
LAST-MODIFIED:20260109T182608Z
UID:16544-1785110400-1785542399@willowsfordconservancy.org
SUMMARY:Ultimate Explorer Summer Camp with Natural Leaders
DESCRIPTION:Willowsford Conservancy is teaming up with Natural Leaders to bring a week of nature-based camp to Willowsford this July!  \nThe Ultimate Explorer Summer Day Program is an outdoor drop-off camp that meets Monday through Friday. Students will have the time of their lives exploring the wilds of Willowsford and making friendships while developing self-reliance skills they will carry with themselves forever. From hiking trails and exploring creeks to learning primitive survival skills like shelter building and fire making\, this camp is perfect for any kid ready for outdoor adventure! \nWhen: July27-31 from 9 am to 4 pm daily\nWhere: Cedar Pond Pavilion in The Greens\n25966 Cullen Run Pl\, Aldie\, VA 20105 \nAges: 7-12 years old\nClick here to register!
URL:https://willowsfordconservancy.org/event/ultimate-explorer-summer-camp-2/
LOCATION:Cedar Pond Pavilion
ATTACH;FMTTYPE=image/jpeg:https://willowsfordconservancy.org/wp-content/uploads/2024/03/DSC_6755-X2.jpg
ORGANIZER;CN="Willowsford Conservancy":MAILTO:info@willowsfordconservancy.org
END:VEVENT
BEGIN:VEVENT
DTSTART;TZID=America/New_York:20261014T173000
DTEND;TZID=America/New_York:20261014T193000
DTSTAMP:20260421T083754
CREATED:20260403T060252Z
LAST-MODIFIED:20260403T060252Z
UID:19242-1791999000-1792006200@willowsfordconservancy.org
SUMMARY:Conservancy & HOA Joint Board Meeting
DESCRIPTION:The Willowsford Conservancy Board and the HOA Board will meet jointly on Wednesday\, October 14th from 5:30 pm to 7:30 pm. Willowsford residents are invited to attend this meeting which will be held at Sycamore House or via zoom (info below). The agenda is available in the Document Center which is available through the Residents section of the Conservancy website or through the HOA website. \nThe two boards meet together twice a year (in late spring/early summer and fall). A draft of the Conservancy 2026 budget will be shared at this meeting. \nJoin by Zoom:\nhttps://us02web.zoom.us/j/84079661084?pwd=6iONQMgjKtZf7UO2L8KNoVdaFuxi2A.1\nMeeting ID: 840 7966 1084   |   Passcode: 693871
URL:https://willowsfordconservancy.org/event/conservancy-hoa-joint-board-meeting-3/
LOCATION:Sycamore House\, 23506 Founders Dr\, Ashburn\, VA\, 20148
CATEGORIES:Homeowner
ATTACH;FMTTYPE=image/jpeg:https://willowsfordconservancy.org/wp-content/uploads/2023/11/DSF1557-1.jpg
ORGANIZER;CN="Willowsford Conservancy":MAILTO:info@willowsfordconservancy.org
GEO:38.9663187;-77.5571584
X-APPLE-STRUCTURED-LOCATION;VALUE=URI;X-ADDRESS=Sycamore House 23506 Founders Dr Ashburn VA 20148;X-APPLE-RADIUS=500;X-TITLE=23506 Founders Dr:geo:-77.5571584,38.9663187
END:VEVENT
BEGIN:VEVENT
DTSTART;TZID=America/New_York:20261105T173000
DTEND;TZID=America/New_York:20261105T173000
DTSTAMP:20260421T083754
CREATED:20260413T175046Z
LAST-MODIFIED:20260413T175046Z
UID:19282-1793899800-1793899800@willowsfordconservancy.org
SUMMARY:Conservancy Board Meeting
DESCRIPTION:The Willowsford Conservancy Board will meet on Thursday\, November 5th from 5:30pm to 7:30pm. Willowsford residents are invited to attend this meeting at the Sycamore House or through the zoom link provided below. The agenda will be available prior to the meeting in the Document Center which is available to Willowsford residents through the Willowsford Conservancy website. \nhttps://us02web.zoom.us/j/82062637730?pwd=w3mGWyYtF4dM4PROZ36zZydachnhb0.1&from=addon\nMeeting ID: 820 6263 7730\nPasscode: 461741
URL:https://willowsfordconservancy.org/event/conservancy-board-meeting-4/
LOCATION:Sycamore House\, 23506 Founders Dr\, Ashburn\, VA\, 20148
CATEGORIES:Public
ATTACH;FMTTYPE=image/jpeg:https://willowsfordconservancy.org/wp-content/uploads/2026/01/IMG_5987.jpg
ORGANIZER;CN="Willowsford Conservancy":MAILTO:info@willowsfordconservancy.org
GEO:38.9663187;-77.5571584
X-APPLE-STRUCTURED-LOCATION;VALUE=URI;X-ADDRESS=Sycamore House 23506 Founders Dr Ashburn VA 20148;X-APPLE-RADIUS=500;X-TITLE=23506 Founders Dr:geo:-77.5571584,38.9663187
END:VEVENT
END:VCALENDAR